BEGIN:VCALENDAR
VERSION:2.0
PRODID:-//Baker Alumni Association - ECPv6.15.18//NONSGML v1.0//EN
CALSCALE:GREGORIAN
METHOD:PUBLISH
X-WR-CALNAME:Baker Alumni Association
X-ORIGINAL-URL:https://alumni.bakeru.edu
X-WR-CALDESC:Events for Baker Alumni Association
REFRESH-INTERVAL;VALUE=DURATION:PT1H
X-Robots-Tag:noindex
X-PUBLISHED-TTL:PT1H
BEGIN:VTIMEZONE
TZID:America/Chicago
BEGIN:DAYLIGHT
TZOFFSETFROM:-0600
TZOFFSETTO:-0500
TZNAME:CDT
DTSTART:20250309T080000
END:DAYLIGHT
BEGIN:STANDARD
TZOFFSETFROM:-0500
TZOFFSETTO:-0600
TZNAME:CST
DTSTART:20251102T070000
END:STANDARD
BEGIN:DAYLIGHT
TZOFFSETFROM:-0600
TZOFFSETTO:-0500
TZNAME:CDT
DTSTART:20260308T080000
END:DAYLIGHT
BEGIN:STANDARD
TZOFFSETFROM:-0500
TZOFFSETTO:-0600
TZNAME:CST
DTSTART:20261101T070000
END:STANDARD
BEGIN:DAYLIGHT
TZOFFSETFROM:-0600
TZOFFSETTO:-0500
TZNAME:CDT
DTSTART:20270314T080000
END:DAYLIGHT
BEGIN:STANDARD
TZOFFSETFROM:-0500
TZOFFSETTO:-0600
TZNAME:CST
DTSTART:20271107T070000
END:STANDARD
END:VTIMEZONE
BEGIN:VEVENT
DTSTART;TZID=America/Chicago:20260926T110000
DTEND;TZID=America/Chicago:20260926T130000
DTSTAMP:20260421T060012
CREATED:20260212T210746Z
LAST-MODIFIED:20260212T231043Z
UID:10000122-1790420400-1790427600@alumni.bakeru.edu
SUMMARY:Homecoming Lunch – Indoor Athletic Facility
DESCRIPTION:Fuel up for the big game at the Homecoming Lunch. Join alumni\, students\, families\, and friends for food\, fellowship\, and plenty of Baker spirit inside the Indoor Athletic Facility.  \n\nNO RSVP needed
URL:https://alumni.bakeru.edu/event/homecoming-lunch-indoor-athletic-facility/
LOCATION:Indoor Baseball/Softball Facility\, 725 N 2nd St\, Baldwin City\, KS 66006\, Baldwin City\, Kansas\, 66006\, United States
CATEGORIES:Alumni
ATTACH;FMTTYPE=image/jpeg:https://alumni.bakeru.edu/wp-content/uploads/2026/02/HoCo25-46.jpg
END:VEVENT
END:VCALENDAR