BEGIN:VCALENDAR
VERSION:2.0
PRODID:-//Baker Alumni Association - ECPv6.15.18//NONSGML v1.0//EN
CALSCALE:GREGORIAN
METHOD:PUBLISH
X-ORIGINAL-URL:https://alumni.bakeru.edu
X-WR-CALDESC:Events for Baker Alumni Association
REFRESH-INTERVAL;VALUE=DURATION:PT1H
X-Robots-Tag:noindex
X-PUBLISHED-TTL:PT1H
BEGIN:VTIMEZONE
TZID:America/Chicago
BEGIN:DAYLIGHT
TZOFFSETFROM:-0600
TZOFFSETTO:-0500
TZNAME:CDT
DTSTART:20250309T080000
END:DAYLIGHT
BEGIN:STANDARD
TZOFFSETFROM:-0500
TZOFFSETTO:-0600
TZNAME:CST
DTSTART:20251102T070000
END:STANDARD
BEGIN:DAYLIGHT
TZOFFSETFROM:-0600
TZOFFSETTO:-0500
TZNAME:CDT
DTSTART:20260308T080000
END:DAYLIGHT
BEGIN:STANDARD
TZOFFSETFROM:-0500
TZOFFSETTO:-0600
TZNAME:CST
DTSTART:20261101T070000
END:STANDARD
BEGIN:DAYLIGHT
TZOFFSETFROM:-0600
TZOFFSETTO:-0500
TZNAME:CDT
DTSTART:20270314T080000
END:DAYLIGHT
BEGIN:STANDARD
TZOFFSETFROM:-0500
TZOFFSETTO:-0600
TZNAME:CST
DTSTART:20271107T070000
END:STANDARD
END:VTIMEZONE
BEGIN:VEVENT
DTSTART;TZID=America/Chicago:20260501T170000
DTEND;TZID=America/Chicago:20260501T190000
DTSTAMP:20260420T182317
CREATED:20260420T184446Z
LAST-MODIFIED:20260420T185303Z
UID:10000125-1777654800-1777662000@alumni.bakeru.edu
SUMMARY:2026 Baker University Men’s Soccer Social
DESCRIPTION:Support the Program. Reconnect with Teammates. Celebrate Baker Soccer.\n\nJoin Baker University men’s soccer alumni and supporters for a weekend of connection and celebration centered on the men’s soccer program.\nThis event includes a social gathering and an alumni game\, with opportunities to support Baker University Men’s Soccer through participation and program support options. \n\nEvent Details\n\nAlumni Social\nLocation: Transport Brewery Shawnee\nDate: Friday\, May 1\, 2026\nTime: 5:00 PM – 7:00 PM \nThe alumni social provides an opportunity to connect with fellow alumni and supporters in a casual setting. \n\nAlumni Game\nLocation: Hartley Field\nDate: Saturday\, May 2\, 2026\nKickoff: 1:00 PM \nThe alumni game brings former players and supporters together on the field in support of Baker University Men’s Soccer. \n\n\nRegistration Options\nParticipants may register for one or more of the following: \n\nMen’s Alumni Game + Hospitality Hour\nHospitality Hour Only\n\nRegistration includes access to post-game hospitality and an opportunity to connect with former teammates\, coaches\, and supporters of Baker soccer. \n\nSupport Levels\nIn addition to attending\, participants may choose to further support the program through optional giving levels\, including: \n\n$25 Alumni T-Shirt Size (S–3XL)\n$50 ($25 Alumni Gift + $25 Program Support)\n$100 Alumni Gift\n$250 Young Alumni Gift (Graduated past 10 years)\n$500 Bronze Gate\n$1\,000 Gold Gate\n\nAll proceeds benefit Baker University Men’s Soccer and directly support scholarships and student-athlete development. \n\nWhy Your Support Matters\nFunds raised through the Alumni Game help: \n\nProvide scholarship support for current and future student-athletes\nEnhance training\, travel\, and competitive opportunities\nStrengthen the long-term success of Baker men’s soccer\n\nYour involvement helps ensure our student-athletes continue to thrive—on the field and in the classroom. \n\nHow to Register\nPlease complete the registration form to reserve your spot and indicate your participation and giving preferences.\nPayment may be completed online through the Baker University Business Office after submission.
URL:https://alumni.bakeru.edu/event/mens-alumni-soccer-game-2/
LOCATION:Transport Brewery Shawnee\, 11113 Johnson Dr\, Shawnee\, KS\, 66203\, United States
CATEGORIES:Alumni,Main Calendar
ATTACH;FMTTYPE=image/jpeg:https://alumni.bakeru.edu/wp-content/uploads/2021/11/Alumni-Social_3-scaled-2.jpg
ORGANIZER;CN="Baker University Alumni Association":MAILTO:dbarth@bakerU.edu
END:VEVENT
BEGIN:VEVENT
DTSTART;TZID=America/Chicago:20260502T130000
DTEND;TZID=America/Chicago:20260502T150000
DTSTAMP:20260420T182317
CREATED:20240410T220347Z
LAST-MODIFIED:20260420T190411Z
UID:10000127-1777726800-1777734000@alumni.bakeru.edu
SUMMARY:2026 Baker University Men’s Soccer Alumni Game
DESCRIPTION:Support the Program. Reconnect with Teammates. Celebrate Baker Soccer.\n\nJoin Baker University men’s soccer alumni and supporters for a weekend of connection and celebration centered on the men’s soccer program.\nThis event includes a social gathering and an alumni game\, with opportunities to support Baker University Men’s Soccer through participation and program support options. \n\nEvent Details\n\nAlumni Social\nLocation: Transport Brewery Shawnee\nDate: Friday\, May 1\, 2026\nTime: 5:00 PM – 7:00 PM \nThe alumni social provides an opportunity to connect with fellow alumni and supporters in a casual setting. \n\nAlumni Game\nLocation: Hartley Field\nDate: Saturday\, May 2\, 2026\nKickoff: 1:00 PM \nThe alumni game brings former players and supporters together on the field in support of Baker University Men’s Soccer. \n\n\nRegistration Options\nParticipants may register for one or more of the following: \n\nMen’s Alumni Game + Hospitality Hour\nHospitality Hour Only\n\nRegistration includes access to post-game hospitality and an opportunity to connect with former teammates\, coaches\, and supporters of Baker soccer. \n\nSupport Levels\nIn addition to attending\, participants may choose to further support the program through optional giving levels\, including: \n\n$25 Alumni T-Shirt Size (S–3XL)\n$50 ($25 Alumni Gift + $25 Program Support)\n$100 Alumni Gift\n$250 Young Alumni Gift (Graduated past 10 years)\n$500 Bronze Gate\n$1\,000 Gold Gate\n\nAll proceeds benefit Baker University Men’s Soccer and directly support scholarships and student-athlete development. \n\nWhy Your Support Matters\nFunds raised through the Alumni Game help: \n\nProvide scholarship support for current and future student-athletes\nEnhance training\, travel\, and competitive opportunities\nStrengthen the long-term success of Baker men’s soccer\n\nYour involvement helps ensure our student-athletes continue to thrive—on the field and in the classroom. \n\nHow to Register\nPlease complete the registration form to reserve your spot and indicate your participation and giving preferences.\nPayment may be completed online through the Baker University Business Office after submission.
URL:https://alumni.bakeru.edu/event/mens-alumni-soccer-game/
LOCATION:Hartley Field\, 725 First St.\, Baldwin City\, KS\, 66006\, United States
CATEGORIES:Alumni,Main Calendar
ATTACH;FMTTYPE=image/jpeg:https://alumni.bakeru.edu/wp-content/uploads/2024/04/Alumni-Games-Header-1080x1080-Mens-Soccer-UvmCDS.tmp_.jpg
ORGANIZER;CN="Baker University Alumni Association":MAILTO:dbarth@bakerU.edu
END:VEVENT
BEGIN:VEVENT
DTSTART;TZID=America/Chicago:20260502T130000
DTEND;TZID=America/Chicago:20260502T153000
DTSTAMP:20260420T182317
CREATED:20260420T185540Z
LAST-MODIFIED:20260420T185909Z
UID:10000128-1777726800-1777735800@alumni.bakeru.edu
SUMMARY:2026 Baker University Men’s Soccer Alumni Game
DESCRIPTION:Support the Program. Reconnect with Teammates. Celebrate Baker Soccer.\n\nJoin Baker University men’s soccer alumni and supporters for a weekend of connection and celebration centered on the men’s soccer program.\nThis event includes a social gathering and an alumni game\, with opportunities to support Baker University Men’s Soccer through participation and program support options. \n\nEvent Details\n\nAlumni Social\nLocation: Transport Brewery Shawnee\nDate: Friday\, May 1\, 2026\nTime: 5:00 PM – 7:00 PM \nThe alumni social provides an opportunity to connect with fellow alumni and supporters in a casual setting. \n\nAlumni Game\nLocation: Hartley Field\nDate: Saturday\, May 2\, 2026\nKickoff: 1:00 PM \nThe alumni game brings former players and supporters together on the field in support of Baker University Men’s Soccer. \n\n\nRegistration Options\nParticipants may register for one or more of the following: \n\nMen’s Alumni Game + Hospitality Hour\nHospitality Hour Only\n\nRegistration includes access to post-game hospitality and an opportunity to connect with former teammates\, coaches\, and supporters of Baker soccer. \n\nSupport Levels\nIn addition to attending\, participants may choose to further support the program through optional giving levels\, including: \n\n$25 Alumni T-Shirt Size (S–3XL)\n$50 ($25 Alumni Gift + $25 Program Support)\n$100 Alumni Gift\n$250 Young Alumni Gift (Graduated past 10 years)\n$500 Bronze Gate\n$1\,000 Gold Gate\n\nAll proceeds benefit Baker University Men’s Soccer and directly support scholarships and student-athlete development. \n\nWhy Your Support Matters\nFunds raised through the Alumni Game help: \n\nProvide scholarship support for current and future student-athletes\nEnhance training\, travel\, and competitive opportunities\nStrengthen the long-term success of Baker men’s soccer\n\nYour involvement helps ensure our student-athletes continue to thrive—on the field and in the classroom. \n\nHow to Register\nPlease complete the registration form to reserve your spot and indicate your participation and giving preferences.\nPayment may be completed online through the Baker University Business Office after submission.
URL:https://alumni.bakeru.edu/event/2026-baker-university-mens-soccer-social/
LOCATION:Hartley Field\, 725 First St.\, Baldwin City\, KS\, 66006\, United States
CATEGORIES:Alumni,Main Calendar
ATTACH;FMTTYPE=image/jpeg:https://alumni.bakeru.edu/wp-content/uploads/2024/04/Alumni-Games-Header-1080x1080-Mens-Soccer-UvmCDS.tmp_.jpg
ORGANIZER;CN="Baker University Alumni Association":MAILTO:dbarth@bakerU.edu
END:VEVENT
END:VCALENDAR