BEGIN:VCALENDAR
VERSION:2.0
PRODID:-//Baker Alumni Association - ECPv6.15.18//NONSGML v1.0//EN
CALSCALE:GREGORIAN
METHOD:PUBLISH
X-WR-CALNAME:Baker Alumni Association
X-ORIGINAL-URL:https://alumni.bakeru.edu
X-WR-CALDESC:Events for Baker Alumni Association
REFRESH-INTERVAL;VALUE=DURATION:PT1H
X-Robots-Tag:noindex
X-PUBLISHED-TTL:PT1H
BEGIN:VTIMEZONE
TZID:America/Chicago
BEGIN:DAYLIGHT
TZOFFSETFROM:-0600
TZOFFSETTO:-0500
TZNAME:CDT
DTSTART:20230312T080000
END:DAYLIGHT
BEGIN:STANDARD
TZOFFSETFROM:-0500
TZOFFSETTO:-0600
TZNAME:CST
DTSTART:20231105T070000
END:STANDARD
BEGIN:DAYLIGHT
TZOFFSETFROM:-0600
TZOFFSETTO:-0500
TZNAME:CDT
DTSTART:20240310T080000
END:DAYLIGHT
BEGIN:STANDARD
TZOFFSETFROM:-0500
TZOFFSETTO:-0600
TZNAME:CST
DTSTART:20241103T070000
END:STANDARD
BEGIN:DAYLIGHT
TZOFFSETFROM:-0600
TZOFFSETTO:-0500
TZNAME:CDT
DTSTART:20250309T080000
END:DAYLIGHT
BEGIN:STANDARD
TZOFFSETFROM:-0500
TZOFFSETTO:-0600
TZNAME:CST
DTSTART:20251102T070000
END:STANDARD
END:VTIMEZONE
BEGIN:VEVENT
DTSTART;TZID=America/Chicago:20240907T090000
DTEND;TZID=America/Chicago:20240907T103000
DTSTAMP:20260422T220046
CREATED:20240307T000521Z
LAST-MODIFIED:20240907T235607Z
UID:10000084-1725699600-1725705000@alumni.bakeru.edu
SUMMARY:Alumni Legacy Breakfast
DESCRIPTION:Our free Legacy Breakfast occurs during Family Weekend for our alumni who have students on campus now. BU attire and an appetite are ALL you need! \nPlease RSVP to dbarth@bakerU.edu by September 4 with the names of your guests and student(s) — siblings are welcome too. And please remember to INVITE your student to join us. \nThe Alumni Center (former Phi Mu house) is located directly across the street from Collins Library.
URL:https://alumni.bakeru.edu/event/alumni-legacy-breakfast-2/
LOCATION:Baker Alumni Center\, 519 Eighth St\, Baldwin City\, KS\, 66006\, United States
CATEGORIES:Alumni,Main Calendar
ATTACH;FMTTYPE=image/jpeg:https://alumni.bakeru.edu/wp-content/uploads/2024/03/alumni-legacy-graphic-500x500-1-cu1hN2.tmp_.jpg
END:VEVENT
BEGIN:VEVENT
DTSTART;TZID=America/Chicago:20240920T190000
DTEND;TZID=America/Chicago:20240920T190000
DTSTAMP:20260422T220046
CREATED:20230624T000344Z
LAST-MODIFIED:20240920T234152Z
UID:10000050-1726858800-1726858800@alumni.bakeru.edu
SUMMARY:Athletic Hall of Fame Induction & Student-Athlete Recognition
DESCRIPTION:Join us in honoring our new members of the Athletic Hall of Fame and our 2024-2025 student-athletes.\nThis event is free and open to the public. \nSee full schedule here.
URL:https://alumni.bakeru.edu/event/athletic-hall-of-fame-induction-student-athlete-recognition/
LOCATION:Rice Auditorium\, 404 Eighth Street\, Baldwin City\, KS\, 66006\, United States
CATEGORIES:Alumni,Main Calendar
ATTACH;FMTTYPE=image/png:https://alumni.bakeru.edu/wp-content/uploads/2022/08/Athletic-HOF-500x500-1-bX8hWv.tmp_-K5YvVz.tmp_.png
END:VEVENT
BEGIN:VEVENT
DTSTART;TZID=America/Chicago:20240921T110000
DTEND;TZID=America/Chicago:20240921T110000
DTSTAMP:20260422T220046
CREATED:20240319T165915Z
LAST-MODIFIED:20240921T235136Z
UID:10000085-1726916400-1726916400@alumni.bakeru.edu
SUMMARY:Homecoming Tailgate & Football Game UPDATE
DESCRIPTION:Because of expected severe weather Saturday afternoon and the Heart of America Conference heat policy\, the kickoff for the football game will be at 11 a.m.\, and the tailgate has been rescheduled for October 26\, when we honor Baker’s first Team of Distinction\, the 1986 football team that played for the national championship. \nSee UPDATED schedule here.
URL:https://alumni.bakeru.edu/event/homecoming-tailgate-football-game-3/
LOCATION:Liston Stadium\, 100 Fremont Street\, Baldwin City\, KS\, 66006\, United States
CATEGORIES:Alumni,Main Calendar
ATTACH;FMTTYPE=image/png:https://alumni.bakeru.edu/wp-content/uploads/2022/08/F_Homecoming-275-500x500-1-RQhGBU.tmp_-wB9INm.tmp_-e1670614459427.png
END:VEVENT
END:VCALENDAR