BEGIN:VCALENDAR
VERSION:2.0
PRODID:-//Baker Alumni Association - ECPv6.15.18//NONSGML v1.0//EN
CALSCALE:GREGORIAN
METHOD:PUBLISH
X-WR-CALNAME:Baker Alumni Association
X-ORIGINAL-URL:https://alumni.bakeru.edu
X-WR-CALDESC:Events for Baker Alumni Association
REFRESH-INTERVAL;VALUE=DURATION:PT1H
X-Robots-Tag:noindex
X-PUBLISHED-TTL:PT1H
BEGIN:VTIMEZONE
TZID:America/Chicago
BEGIN:DAYLIGHT
TZOFFSETFROM:-0600
TZOFFSETTO:-0500
TZNAME:CDT
DTSTART:20240310T080000
END:DAYLIGHT
BEGIN:STANDARD
TZOFFSETFROM:-0500
TZOFFSETTO:-0600
TZNAME:CST
DTSTART:20241103T070000
END:STANDARD
BEGIN:DAYLIGHT
TZOFFSETFROM:-0600
TZOFFSETTO:-0500
TZNAME:CDT
DTSTART:20250309T080000
END:DAYLIGHT
BEGIN:STANDARD
TZOFFSETFROM:-0500
TZOFFSETTO:-0600
TZNAME:CST
DTSTART:20251102T070000
END:STANDARD
BEGIN:DAYLIGHT
TZOFFSETFROM:-0600
TZOFFSETTO:-0500
TZNAME:CDT
DTSTART:20260308T080000
END:DAYLIGHT
BEGIN:STANDARD
TZOFFSETFROM:-0500
TZOFFSETTO:-0600
TZNAME:CST
DTSTART:20261101T070000
END:STANDARD
END:VTIMEZONE
BEGIN:VEVENT
DTSTART;TZID=America/Chicago:20251207T133000
DTEND;TZID=America/Chicago:20251207T160000
DTSTAMP:20260423T194917
CREATED:20251029T180243Z
LAST-MODIFIED:20251125T174251Z
UID:10000112-1765114200-1765123200@alumni.bakeru.edu
SUMMARY:Christmas Candlelight Vespers at Baker University
DESCRIPTION:Christmas Candlelight Vespers at Baker University \nJoin us for one of Baker’s most cherished traditions—the Christmas Candlelight Vespers! This annual celebration brings together our community for an afternoon of music\, reflection\, and holiday spirit. \nDate: Sunday\, December 7 \nLocation: Rice Auditorium\, Baldwin City Campus \nExperience the beauty of the season with choral and instrumental performances by the Department of Music and Theatre. Enjoy festive arrangements\, traditional carols\, and the warmth of candlelight as we celebrate together. \nHighlights: \n• Performances by Baker’s choirs and instrumental ensembles \n• Photo opportunities to capture the holiday spirit \nCan’t join in person? Watch the livestream via Zoom. \nLet’s make this holiday season memorable. Invite your friends\, family\, and alumni to share in the joy of Vespers!
URL:https://alumni.bakeru.edu/event/vespers-2025/
LOCATION:Rice Auditorium\, 404 Eighth Street\, Baldwin City\, KS\, 66006\, United States
CATEGORIES:Alumni,Main Calendar
ATTACH;FMTTYPE=image/jpeg:https://alumni.bakeru.edu/wp-content/uploads/2024/10/2024-vespers-calendar-1080-x-1080-qoVJQi.tmp_.jpg
END:VEVENT
END:VCALENDAR