BEGIN:VCALENDAR
VERSION:2.0
PRODID:-//Baker Alumni Association - ECPv6.15.18//NONSGML v1.0//EN
CALSCALE:GREGORIAN
METHOD:PUBLISH
X-ORIGINAL-URL:https://alumni.bakeru.edu
X-WR-CALDESC:Events for Baker Alumni Association
REFRESH-INTERVAL;VALUE=DURATION:PT1H
X-Robots-Tag:noindex
X-PUBLISHED-TTL:PT1H
BEGIN:VTIMEZONE
TZID:America/Chicago
BEGIN:DAYLIGHT
TZOFFSETFROM:-0600
TZOFFSETTO:-0500
TZNAME:CDT
DTSTART:20240310T080000
END:DAYLIGHT
BEGIN:STANDARD
TZOFFSETFROM:-0500
TZOFFSETTO:-0600
TZNAME:CST
DTSTART:20241103T070000
END:STANDARD
BEGIN:DAYLIGHT
TZOFFSETFROM:-0600
TZOFFSETTO:-0500
TZNAME:CDT
DTSTART:20250309T080000
END:DAYLIGHT
BEGIN:STANDARD
TZOFFSETFROM:-0500
TZOFFSETTO:-0600
TZNAME:CST
DTSTART:20251102T070000
END:STANDARD
BEGIN:DAYLIGHT
TZOFFSETFROM:-0600
TZOFFSETTO:-0500
TZNAME:CDT
DTSTART:20260308T080000
END:DAYLIGHT
BEGIN:STANDARD
TZOFFSETFROM:-0500
TZOFFSETTO:-0600
TZNAME:CST
DTSTART:20261101T070000
END:STANDARD
END:VTIMEZONE
BEGIN:VEVENT
DTSTART;TZID=America/Chicago:20251003T190000
DTEND;TZID=America/Chicago:20251003T190000
DTSTAMP:20260420T112045
CREATED:20250728T193830Z
LAST-MODIFIED:20251003T233445Z
UID:10000109-1759518000-1759518000@alumni.bakeru.edu
SUMMARY:Athletic Hall of Fame Induction & Student-Athlete Recognition
DESCRIPTION:Join us in honoring our new members of the Athletic Hall of Fame and our 2024-2025 student-athletes.\nThis event is free and open to the public. \nSee 2025 Inductees
URL:https://alumni.bakeru.edu/event/athletic-hall-of-fame-induction-student-athlete-recognition-3/
LOCATION:Rice Auditorium\, 404 Eighth Street\, Baldwin City\, KS\, 66006\, United States
CATEGORIES:Alumni,Main Calendar
ATTACH;FMTTYPE=image/png:https://alumni.bakeru.edu/wp-content/uploads/2022/08/Athletic-HOF-500x500-1-bX8hWv.tmp_-K5YvVz.tmp_.png
END:VEVENT
END:VCALENDAR