BEGIN:VCALENDAR
VERSION:2.0
PRODID:-//Baker Alumni Association - ECPv6.15.18//NONSGML v1.0//EN
CALSCALE:GREGORIAN
METHOD:PUBLISH
X-WR-CALNAME:Baker Alumni Association
X-ORIGINAL-URL:https://alumni.bakeru.edu
X-WR-CALDESC:Events for Baker Alumni Association
REFRESH-INTERVAL;VALUE=DURATION:PT1H
X-Robots-Tag:noindex
X-PUBLISHED-TTL:PT1H
BEGIN:VTIMEZONE
TZID:America/Chicago
BEGIN:DAYLIGHT
TZOFFSETFROM:-0600
TZOFFSETTO:-0500
TZNAME:CDT
DTSTART:20240310T080000
END:DAYLIGHT
BEGIN:STANDARD
TZOFFSETFROM:-0500
TZOFFSETTO:-0600
TZNAME:CST
DTSTART:20241103T070000
END:STANDARD
BEGIN:DAYLIGHT
TZOFFSETFROM:-0600
TZOFFSETTO:-0500
TZNAME:CDT
DTSTART:20250309T080000
END:DAYLIGHT
BEGIN:STANDARD
TZOFFSETFROM:-0500
TZOFFSETTO:-0600
TZNAME:CST
DTSTART:20251102T070000
END:STANDARD
BEGIN:DAYLIGHT
TZOFFSETFROM:-0600
TZOFFSETTO:-0500
TZNAME:CDT
DTSTART:20260308T080000
END:DAYLIGHT
BEGIN:STANDARD
TZOFFSETFROM:-0500
TZOFFSETTO:-0600
TZNAME:CST
DTSTART:20261101T070000
END:STANDARD
END:VTIMEZONE
BEGIN:VEVENT
DTSTART;TZID=America/Chicago:20250913T090000
DTEND;TZID=America/Chicago:20250913T103000
DTSTAMP:20260420T110728
CREATED:20250730T202359Z
LAST-MODIFIED:20250913T233615Z
UID:10000111-1757754000-1757759400@alumni.bakeru.edu
SUMMARY:Alumni Legacy Breakfast
DESCRIPTION:Our free Legacy Breakfast occurs during Family Weekend for our alumni who have students on campus now. BU attire and an appetite are ALL you need! \nPlease RSVP to dbarth@bakerU.edu by September 9 with the names of your guests and student(s) — siblings are welcome\, too. And please remember to INVITE your student to join us. \nThe Alumni Center (former Phi Mu house) is located directly across the street from Collins Library.
URL:https://alumni.bakeru.edu/event/alumni-legacy-breakfast-3/
LOCATION:Alumni Center Lawn\, 519 Eighth St\, Baldwin City\, KS\, 66006\, United States
CATEGORIES:Alumni,Main Calendar
ATTACH;FMTTYPE=image/png:https://alumni.bakeru.edu/wp-content/uploads/2022/08/legacy-brunch-500x500-1-T1fOfO.tmp_-fAbzjO.tmp_.png
END:VEVENT
END:VCALENDAR